BEGIN:VCALENDAR
VERSION:2.0
PRODID:-//Pfarreiengemeinschaft Pfaffenhofen an der Ilm - ECPv6.15.18//NONSGML v1.0//EN
CALSCALE:GREGORIAN
METHOD:PUBLISH
X-WR-CALNAME:Pfarreiengemeinschaft Pfaffenhofen an der Ilm
X-ORIGINAL-URL:https://pfarrei-pfaffenhofen.de
X-WR-CALDESC:Veranstaltungen für Pfarreiengemeinschaft Pfaffenhofen an der Ilm
REFRESH-INTERVAL;VALUE=DURATION:PT1H
X-Robots-Tag:noindex
X-PUBLISHED-TTL:PT1H
BEGIN:VTIMEZONE
TZID:UTC
BEGIN:STANDARD
TZOFFSETFROM:+0000
TZOFFSETTO:+0000
TZNAME:UTC
DTSTART:20210101T000000
END:STANDARD
END:VTIMEZONE
BEGIN:VEVENT
DTSTART;TZID=UTC:20220204T153000
DTEND;TZID=UTC:20220204T153000
DTSTAMP:20260422T084326
CREATED:20220129T195643Z
LAST-MODIFIED:20220129T195709Z
UID:7380-1643988600-1643988600@pfarrei-pfaffenhofen.de
SUMMARY:15:30 Uhr Gottesdienst im Seniorenheim St. Franziskus
DESCRIPTION:Dieser Gottesdienst steht im Kirchenanzeiger mit der falschen Zeitangabe. \nBeginn: um 15:30 Uhr!
URL:https://pfarrei-pfaffenhofen.de/termin/1530-uhr-gottesdienst-im-seniorenheim-st-franziskus/
END:VEVENT
END:VCALENDAR