BEGIN:VCALENDAR
VERSION:2.0
PRODID:-//Pfarreiengemeinschaft Pfaffenhofen an der Ilm - ECPv6.15.18//NONSGML v1.0//EN
CALSCALE:GREGORIAN
METHOD:PUBLISH
X-WR-CALNAME:Pfarreiengemeinschaft Pfaffenhofen an der Ilm
X-ORIGINAL-URL:https://pfarrei-pfaffenhofen.de
X-WR-CALDESC:Veranstaltungen für Pfarreiengemeinschaft Pfaffenhofen an der Ilm
REFRESH-INTERVAL;VALUE=DURATION:PT1H
X-Robots-Tag:noindex
X-PUBLISHED-TTL:PT1H
BEGIN:VTIMEZONE
TZID:UTC
BEGIN:STANDARD
TZOFFSETFROM:+0000
TZOFFSETTO:+0000
TZNAME:UTC
DTSTART:20220101T000000
END:STANDARD
END:VTIMEZONE
BEGIN:VEVENT
DTSTART;TZID=UTC:20230722T183000
DTEND;TZID=UTC:20230722T193000
DTSTAMP:20260421T134056
CREATED:20230716T080446Z
LAST-MODIFIED:20230716T080446Z
UID:8860-1690050600-1690054200@pfarrei-pfaffenhofen.de
SUMMARY:18.30 Uhr - Jugendgottesdienst
DESCRIPTION:Die Kath. Jugend lädt ein zum Jugendgottesdienst am 22.7. um 18.30 in die Stadtpfarrkirche. \nDer Gottesdienst steht unter dem Motto: “Schau auf das Gute! – Vom Unkraut im Weizenfeld” \nMusikalisch umrahmt wird der Gottesdienst durch die “ENGL” (Ensemble neues geistliches Liedgut) unter der Leitung von Peter Sibinger. \nEs ergeht eine herzliche Einladung an alle Glaubenden und Suchenden!
URL:https://pfarrei-pfaffenhofen.de/termin/18-30-uhr-jugendgottesdienst/
LOCATION:Stadtpfarrkirche\, Hauptplatz 44\, Pfaffenhofen\, 85276\, Deutschland
END:VEVENT
END:VCALENDAR