BEGIN:VCALENDAR
VERSION:2.0
PRODID:-//Pfarreiengemeinschaft Pfaffenhofen an der Ilm - ECPv6.15.18//NONSGML v1.0//EN
CALSCALE:GREGORIAN
METHOD:PUBLISH
X-WR-CALNAME:Pfarreiengemeinschaft Pfaffenhofen an der Ilm
X-ORIGINAL-URL:https://pfarrei-pfaffenhofen.de
X-WR-CALDESC:Veranstaltungen für Pfarreiengemeinschaft Pfaffenhofen an der Ilm
REFRESH-INTERVAL;VALUE=DURATION:PT1H
X-Robots-Tag:noindex
X-PUBLISHED-TTL:PT1H
BEGIN:VTIMEZONE
TZID:UTC
BEGIN:STANDARD
TZOFFSETFROM:+0000
TZOFFSETTO:+0000
TZNAME:UTC
DTSTART:20230101T000000
END:STANDARD
END:VTIMEZONE
BEGIN:VEVENT
DTSTART;TZID=UTC:20240118T170000
DTEND;TZID=UTC:20240118T183000
DTSTAMP:20260421T153500
CREATED:20240107T103714Z
LAST-MODIFIED:20240107T103737Z
UID:9266-1705597200-1705602600@pfarrei-pfaffenhofen.de
SUMMARY:18.30 Uhr - Schöpfungs-Jugend - Plastikfrei wie geht das?
DESCRIPTION:Plastikfrei wie geht das?\n18. Januar 2024\, 17:00-18:30 Uhr\nBist du auch genervt vom ganzen Plastikmüll? Wir zeigen euch\, wie kinderleicht es sein kann Plastik im Alltag zu vermeiden. In einem kleinen Video erklärt uns Papst Franziskus\, warum es so wichtig ist\, unsere Schöpfung zu schützen. Gemeinsam wollen wir Seifenkugeln herstellen\, um Plastikverpackungen im Badezimmer einzusparen.\nWir freuen uns auf euch!\nTreffpunkt: Pfarrheim
URL:https://pfarrei-pfaffenhofen.de/termin/18-30-uhr-schoepfungs-jugend/
LOCATION:Pfarrheim\, Scheyerer Str. 2\, Pfaffenhofen\, 85276\, Deutschland
END:VEVENT
END:VCALENDAR