BEGIN:VCALENDAR
VERSION:2.0
PRODID:-//Pfarreiengemeinschaft Pfaffenhofen an der Ilm - ECPv6.15.20//NONSGML v1.0//EN
CALSCALE:GREGORIAN
METHOD:PUBLISH
X-WR-CALNAME:Pfarreiengemeinschaft Pfaffenhofen an der Ilm
X-ORIGINAL-URL:https://pfarrei-pfaffenhofen.de
X-WR-CALDESC:Veranstaltungen für Pfarreiengemeinschaft Pfaffenhofen an der Ilm
REFRESH-INTERVAL;VALUE=DURATION:PT1H
X-Robots-Tag:noindex
X-PUBLISHED-TTL:PT1H
BEGIN:VTIMEZONE
TZID:UTC
BEGIN:STANDARD
TZOFFSETFROM:+0000
TZOFFSETTO:+0000
TZNAME:UTC
DTSTART:20170101T000000
END:STANDARD
END:VTIMEZONE
BEGIN:VEVENT
DTSTART;TZID=UTC:20180421T150000
DTEND;TZID=UTC:20180421T150000
DTSTAMP:20260424T082631
CREATED:20180414T085706Z
LAST-MODIFIED:20180414T085706Z
UID:3007-1524322800-1524322800@pfarrei-pfaffenhofen.de
SUMMARY:Buchvorstellung "Die Hütte"
DESCRIPTION:Miteinander entdecken: Am Samstag\, den 21. April\, um 15 Uhr möchten wir ein Experiment starten und das Buch „Die Hütte“ von William Paul Young vorstellen. Der Nachmittag startet mit ein paar Szenen aus dem Film und anschließend einem hoffentlich regen Austausch über neue Eindrücke\, überraschende Antworten und auch Fragen. Um 18.30 Uhr feiern wir die Abendmesse und bei Bedarf können wir später weiterreden.
URL:https://pfarrei-pfaffenhofen.de/termin/buchvorstellung-die-huette/
LOCATION:Stadtpfarrkirche\, anschl. Pfarrheim\, Scheyerer Straße 2\, Pfaffenhofen\, 85276\, Deutschland
CATEGORIES:Gemeindeleben
END:VEVENT
END:VCALENDAR