BEGIN:VCALENDAR
VERSION:2.0
PRODID:-//Pfarreiengemeinschaft Pfaffenhofen an der Ilm - ECPv6.15.18//NONSGML v1.0//EN
CALSCALE:GREGORIAN
METHOD:PUBLISH
X-WR-CALNAME:Pfarreiengemeinschaft Pfaffenhofen an der Ilm
X-ORIGINAL-URL:https://pfarrei-pfaffenhofen.de
X-WR-CALDESC:Veranstaltungen für Pfarreiengemeinschaft Pfaffenhofen an der Ilm
REFRESH-INTERVAL;VALUE=DURATION:PT1H
X-Robots-Tag:noindex
X-PUBLISHED-TTL:PT1H
BEGIN:VTIMEZONE
TZID:UTC
BEGIN:STANDARD
TZOFFSETFROM:+0000
TZOFFSETTO:+0000
TZNAME:UTC
DTSTART:20230101T000000
END:STANDARD
END:VTIMEZONE
BEGIN:VEVENT
DTSTART;VALUE=DATE:20240929
DTEND;VALUE=DATE:20241007
DTSTAMP:20260421T084120
CREATED:20240214T110334Z
LAST-MODIFIED:20240914T145841Z
UID:9348-1727568000-1728259199@pfarrei-pfaffenhofen.de
SUMMARY:Caritas-Herbstsammlung 2024
DESCRIPTION:Aufruf zur Caritas-Herbstsammlung 2024\nKirchenkollekte: Sonntag\, den 29.09. \nHaussammlung: mit Einwurf von Überweisungsträgern von Montag\, den 30.09. bis Sonntag\, den 06.10.2024.
URL:https://pfarrei-pfaffenhofen.de/termin/caritas-fruehjahrsammlung-2024/
END:VEVENT
END:VCALENDAR