BEGIN:VCALENDAR
VERSION:2.0
PRODID:-//Pfarreiengemeinschaft Pfaffenhofen an der Ilm - ECPv6.15.18//NONSGML v1.0//EN
CALSCALE:GREGORIAN
METHOD:PUBLISH
X-WR-CALNAME:Pfarreiengemeinschaft Pfaffenhofen an der Ilm
X-ORIGINAL-URL:https://pfarrei-pfaffenhofen.de
X-WR-CALDESC:Veranstaltungen für Pfarreiengemeinschaft Pfaffenhofen an der Ilm
REFRESH-INTERVAL;VALUE=DURATION:PT1H
X-Robots-Tag:noindex
X-PUBLISHED-TTL:PT1H
BEGIN:VTIMEZONE
TZID:UTC
BEGIN:STANDARD
TZOFFSETFROM:+0000
TZOFFSETTO:+0000
TZNAME:UTC
DTSTART:20170101T000000
END:STANDARD
END:VTIMEZONE
BEGIN:VEVENT
DTSTART;TZID=UTC:20180728T090000
DTEND;TZID=UTC:20180728T090000
DTSTAMP:20260421T085149
CREATED:20180722T093555Z
LAST-MODIFIED:20180722T093555Z
UID:3399-1532768400-1532768400@pfarrei-pfaffenhofen.de
SUMMARY:Fahrt zum Kloster Plankstetten
DESCRIPTION:Eine Fahrt zum Kloster Plankstetten unternimmt die Kolpingfamilie am Samstag\, den 28. Juli\, um 9 Uhr. Treffpunkt ist an der Grundschule Niederscheyern. Anmeldung bei Birgit Riesenbeck (Tel.: 803102)
URL:https://pfarrei-pfaffenhofen.de/termin/fahrt-zum-kloster-plankstetten/
CATEGORIES:Gemeindeleben
END:VEVENT
END:VCALENDAR