BEGIN:VCALENDAR
VERSION:2.0
PRODID:-//Pfarreiengemeinschaft Pfaffenhofen an der Ilm - ECPv6.15.18//NONSGML v1.0//EN
CALSCALE:GREGORIAN
METHOD:PUBLISH
X-WR-CALNAME:Pfarreiengemeinschaft Pfaffenhofen an der Ilm
X-ORIGINAL-URL:https://pfarrei-pfaffenhofen.de
X-WR-CALDESC:Veranstaltungen für Pfarreiengemeinschaft Pfaffenhofen an der Ilm
REFRESH-INTERVAL;VALUE=DURATION:PT1H
X-Robots-Tag:noindex
X-PUBLISHED-TTL:PT1H
BEGIN:VTIMEZONE
TZID:UTC
BEGIN:STANDARD
TZOFFSETFROM:+0000
TZOFFSETTO:+0000
TZNAME:UTC
DTSTART:20190101T000000
END:STANDARD
END:VTIMEZONE
BEGIN:VEVENT
DTSTART;TZID=UTC:20200329T113000
DTEND;TZID=UTC:20200329T113000
DTSTAMP:20260421T083412
CREATED:20200315T155706Z
LAST-MODIFIED:20200315T161909Z
UID:5923-1585481400-1585481400@pfarrei-pfaffenhofen.de
SUMMARY:SOLIDARITÄTS - ESSEN     ENTFÄLLT!!!!
DESCRIPTION:Wir laden Sie am 5. Fastensonntag nach dem Gottesdienst ganz herzlich zu einer gemeinsamen Mahlzeit in den Pfarrsaal ein. Der Sachausschuss „Eine Welt“ und Mitglieder des Pfarrgemeinderates werden wieder eine schmackhafte Gemüsesuppe\, mit und ohne Wursteinlage\, zubereiten. Das schmeckt – und es hilft\, denn der Erlös kommt einem Projekt in der Dritten Welt zugute. Und – gemeinsames Essen macht Spaß. Probieren Sie es aus. Nach dem Essen gibt es\, für alle\, die es mögen\, frischen Hefe- und Nusszopf und eine Tasse Kaffee oder Tee. Diesmal werden auch schon die ersten handverzierten Osterkerzen zum Verkauf angeboten. \nENTFÄLLT !!!!
URL:https://pfarrei-pfaffenhofen.de/termin/fastenessen-2-2/
LOCATION:Stadtpfarrkirche\, anschl. Pfarrheim\, Scheyerer Straße 2\, Pfaffenhofen\, 85276\, Deutschland
CATEGORIES:Gemeindeleben
END:VEVENT
END:VCALENDAR