BEGIN:VCALENDAR
VERSION:2.0
PRODID:-//Pfarreiengemeinschaft Pfaffenhofen an der Ilm - ECPv6.15.20//NONSGML v1.0//EN
CALSCALE:GREGORIAN
METHOD:PUBLISH
X-WR-CALNAME:Pfarreiengemeinschaft Pfaffenhofen an der Ilm
X-ORIGINAL-URL:https://pfarrei-pfaffenhofen.de
X-WR-CALDESC:Veranstaltungen für Pfarreiengemeinschaft Pfaffenhofen an der Ilm
REFRESH-INTERVAL;VALUE=DURATION:PT1H
X-Robots-Tag:noindex
X-PUBLISHED-TTL:PT1H
BEGIN:VTIMEZONE
TZID:UTC
BEGIN:STANDARD
TZOFFSETFROM:+0000
TZOFFSETTO:+0000
TZNAME:UTC
DTSTART:20170101T000000
END:STANDARD
END:VTIMEZONE
BEGIN:VEVENT
DTSTART;TZID=UTC:20180714T100000
DTEND;TZID=UTC:20180714T100000
DTSTAMP:20260424T113015
CREATED:20171215T230117Z
LAST-MODIFIED:20180708T095916Z
UID:2190-1531562400-1531562400@pfarrei-pfaffenhofen.de
SUMMARY:Firmgottesdienst
DESCRIPTION:Wie bei der Pastoral-Visitation Mitte Januar schon angekündigt\, besucht Weihbischof Florian Wörner unsere Pfarrgemeinde in diesem Jahr ein zweites Mal. \nAm Samstag\, den 14. Juli\, 10 Uhr\, feiert er mit etwa 70 Firmbewerberinnen und -bewerbern\, ihren Paten\, Familien und Freunden Gottesdienst und stärkt sie durch die Gabe des Heiligen Geistes für ihren weiteren Lebens- und Glaubensweg. Herzliche Einladung an die ganze Gemeinde\, an diese jungen Christen im Gebet zu denken.
URL:https://pfarrei-pfaffenhofen.de/termin/firmung/
LOCATION:Stadtpfarrkirche\, Hauptplatz 44\, Pfaffenhofen\, 85276\, Deutschland
CATEGORIES:Gottesdienste,Jugend
END:VEVENT
END:VCALENDAR