BEGIN:VCALENDAR
VERSION:2.0
PRODID:-//Pfarreiengemeinschaft Pfaffenhofen an der Ilm - ECPv6.15.18//NONSGML v1.0//EN
CALSCALE:GREGORIAN
METHOD:PUBLISH
X-WR-CALNAME:Pfarreiengemeinschaft Pfaffenhofen an der Ilm
X-ORIGINAL-URL:https://pfarrei-pfaffenhofen.de
X-WR-CALDESC:Veranstaltungen für Pfarreiengemeinschaft Pfaffenhofen an der Ilm
REFRESH-INTERVAL;VALUE=DURATION:PT1H
X-Robots-Tag:noindex
X-PUBLISHED-TTL:PT1H
BEGIN:VTIMEZONE
TZID:UTC
BEGIN:STANDARD
TZOFFSETFROM:+0000
TZOFFSETTO:+0000
TZNAME:UTC
DTSTART:20170101T000000
END:STANDARD
END:VTIMEZONE
BEGIN:VEVENT
DTSTART;TZID=UTC:20180304T113000
DTEND;TZID=UTC:20180304T113000
DTSTAMP:20260422T084303
CREATED:20180222T202410Z
LAST-MODIFIED:20180222T202410Z
UID:2658-1520163000-1520163000@pfarrei-pfaffenhofen.de
SUMMARY:Geburtstag unseres Pfarrers
DESCRIPTION:Anlässlich des 60. Geburtstags von Pfarrer Albert L. Miorin am Sonntag\, 4. März\, sind alle\, die Zeit und Lust haben nach der 10.30-Uhr-Messfeier zu einem kleinen Sektempfang ins Pfarrheim herzlich eingeladen.
URL:https://pfarrei-pfaffenhofen.de/termin/geburtstag-unseres-pfarrers/
LOCATION:Stadtpfarrkirche\, anschl. Pfarrheim\, Scheyerer Straße 2\, Pfaffenhofen\, 85276\, Deutschland
CATEGORIES:Gemeindeleben
END:VEVENT
END:VCALENDAR