BEGIN:VCALENDAR
VERSION:2.0
PRODID:-//Pfarreiengemeinschaft Pfaffenhofen an der Ilm - ECPv6.15.18//NONSGML v1.0//EN
CALSCALE:GREGORIAN
METHOD:PUBLISH
X-WR-CALNAME:Pfarreiengemeinschaft Pfaffenhofen an der Ilm
X-ORIGINAL-URL:https://pfarrei-pfaffenhofen.de
X-WR-CALDESC:Veranstaltungen für Pfarreiengemeinschaft Pfaffenhofen an der Ilm
REFRESH-INTERVAL;VALUE=DURATION:PT1H
X-Robots-Tag:noindex
X-PUBLISHED-TTL:PT1H
BEGIN:VTIMEZONE
TZID:UTC
BEGIN:STANDARD
TZOFFSETFROM:+0000
TZOFFSETTO:+0000
TZNAME:UTC
DTSTART:20170101T000000
END:STANDARD
END:VTIMEZONE
BEGIN:VEVENT
DTSTART;TZID=UTC:20181124T083000
DTEND;TZID=UTC:20181124T123000
DTSTAMP:20260421T083421
CREATED:20181109T150541Z
LAST-MODIFIED:20181109T150541Z
UID:3978-1543048200-1543062600@pfarrei-pfaffenhofen.de
SUMMARY:Grünverkauf
DESCRIPTION:Am Samstag\, den 24.11.\, von 8.30 bis 12.30 Uhr\, findet der Grünverkauf durch den Kath. Frauenbund im Foyer des Pfarrheims statt.
URL:https://pfarrei-pfaffenhofen.de/termin/gruenverkauf/
LOCATION:Stadtpfarrkirche\, anschl. Pfarrheim\, Scheyerer Straße 2\, Pfaffenhofen\, 85276\, Deutschland
CATEGORIES:Gemeindeleben
END:VEVENT
END:VCALENDAR