BEGIN:VCALENDAR
VERSION:2.0
PRODID:-//Pfarreiengemeinschaft Pfaffenhofen an der Ilm - ECPv6.15.20//NONSGML v1.0//EN
CALSCALE:GREGORIAN
METHOD:PUBLISH
X-WR-CALNAME:Pfarreiengemeinschaft Pfaffenhofen an der Ilm
X-ORIGINAL-URL:https://pfarrei-pfaffenhofen.de
X-WR-CALDESC:Veranstaltungen für Pfarreiengemeinschaft Pfaffenhofen an der Ilm
REFRESH-INTERVAL;VALUE=DURATION:PT1H
X-Robots-Tag:noindex
X-PUBLISHED-TTL:PT1H
BEGIN:VTIMEZONE
TZID:UTC
BEGIN:STANDARD
TZOFFSETFROM:+0000
TZOFFSETTO:+0000
TZNAME:UTC
DTSTART:20170101T000000
END:STANDARD
END:VTIMEZONE
BEGIN:VEVENT
DTSTART;TZID=UTC:20180101T160000
DTEND;TZID=UTC:20180101T160000
DTSTAMP:20260425T120949
CREATED:20171212T195328Z
LAST-MODIFIED:20171212T195328Z
UID:2175-1514822400-1514822400@pfarrei-pfaffenhofen.de
SUMMARY:Neujahrskonzert
DESCRIPTION:Zum traditionellen Neujahrskonzert lädt der Landkreis Pfaffenhofen zusammen mit dem Kammerchor „a-cappella-nova“ am 1. Januar um 16 Uhr in die Stadtpfarrkirche ein. Auf dem Programm steht u.a. Johann Sebastian Bachs „Magnificat“ und die Kantate „Lobe den Herren“. \nLeitung: Beatrice-Maria Weinberger \nKarten zu € 18/15/12 bei Schreibwaren Daubmeier und an der Tageskasse.
URL:https://pfarrei-pfaffenhofen.de/termin/neujahrskonzert/
LOCATION:Stadtpfarrkirche\, Hauptplatz 44\, Pfaffenhofen\, 85276\, Deutschland
CATEGORIES:Gemeindeleben,Musik
END:VEVENT
END:VCALENDAR