BEGIN:VCALENDAR
VERSION:2.0
PRODID:-//Pfarreiengemeinschaft Pfaffenhofen an der Ilm - ECPv6.15.18//NONSGML v1.0//EN
CALSCALE:GREGORIAN
METHOD:PUBLISH
X-WR-CALNAME:Pfarreiengemeinschaft Pfaffenhofen an der Ilm
X-ORIGINAL-URL:https://pfarrei-pfaffenhofen.de
X-WR-CALDESC:Veranstaltungen für Pfarreiengemeinschaft Pfaffenhofen an der Ilm
REFRESH-INTERVAL;VALUE=DURATION:PT1H
X-Robots-Tag:noindex
X-PUBLISHED-TTL:PT1H
BEGIN:VTIMEZONE
TZID:UTC
BEGIN:STANDARD
TZOFFSETFROM:+0000
TZOFFSETTO:+0000
TZNAME:UTC
DTSTART:20250101T000000
END:STANDARD
END:VTIMEZONE
BEGIN:VEVENT
DTSTART;TZID=UTC:20260330T183000
DTEND;TZID=UTC:20260330T190000
DTSTAMP:20260421T084120
CREATED:20231105T102539Z
LAST-MODIFIED:20260326T190039Z
UID:9105-1774895400-1774897200@pfarrei-pfaffenhofen.de
SUMMARY:18.30 Uhr - Ökumenisches Friedensgebet
DESCRIPTION:Ökum. Friedensgebet\nfür die Menschen in den Krisengebieten der Welt\, am Montag\, den 30.03.\, um 18:30 Uhr\, in der Stadtpfarrkirche.
URL:https://pfarrei-pfaffenhofen.de/termin/oekumenisches-friedensgebet-2-3/
LOCATION:Stadtpfarrkirche\, Hauptplatz 44\, Pfaffenhofen\, 85276\, Deutschland
CATEGORIES:Gemeindeleben
ATTACH;FMTTYPE=image/png:https://pfarrei-pfaffenhofen.de/wp-content/uploads/Friedensgebet-1.png
END:VEVENT
END:VCALENDAR