BEGIN:VCALENDAR
VERSION:2.0
PRODID:-//Pfarreiengemeinschaft Pfaffenhofen an der Ilm - ECPv6.15.18//NONSGML v1.0//EN
CALSCALE:GREGORIAN
METHOD:PUBLISH
X-WR-CALNAME:Pfarreiengemeinschaft Pfaffenhofen an der Ilm
X-ORIGINAL-URL:https://pfarrei-pfaffenhofen.de
X-WR-CALDESC:Veranstaltungen für Pfarreiengemeinschaft Pfaffenhofen an der Ilm
REFRESH-INTERVAL;VALUE=DURATION:PT1H
X-Robots-Tag:noindex
X-PUBLISHED-TTL:PT1H
BEGIN:VTIMEZONE
TZID:UTC
BEGIN:STANDARD
TZOFFSETFROM:+0000
TZOFFSETTO:+0000
TZNAME:UTC
DTSTART:20220101T000000
END:STANDARD
END:VTIMEZONE
BEGIN:VEVENT
DTSTART;TZID=UTC:20230709T064500
DTEND;TZID=UTC:20230709T113000
DTSTAMP:20260421T105527
CREATED:20180614T105932Z
LAST-MODIFIED:20230626T181557Z
UID:3248-1688885100-1688902200@pfarrei-pfaffenhofen.de
SUMMARY:Traditioneller Kuchenverkauf der Firmlinge
DESCRIPTION:Am Sonntag\, den 9.7.2023 findet der traditionelle Kuchenverkauf der Firmlinge jeweils nach den Gottesdiensten um 7.00 Uhr\,  8.30 Uhr und 10.30 Uhr statt. \nMit dem Verkaufserlös aus den Kuchenspenden wollen wir heuer einen finanziellen Beitrag für die „Diakonie Katastrophenhilfe“ leisten. \nDie Firmlinge würden sich sehr freuen\, wenn Sie mit dem Kauf der selbstgebackenen Kuchen ihr soziales Engagement unterstützen würden. \nDafür jetzt schon ein herzliches Vergelt’s Gott.
URL:https://pfarrei-pfaffenhofen.de/termin/traditioneller-kuchenverkauf-der-firmlinge/
LOCATION:Pfarrheim\, Scheyerer Str. 2\, Pfaffenhofen\, 85276\, Deutschland
CATEGORIES:Gottesdienste,Jugend
END:VEVENT
END:VCALENDAR