BEGIN:VCALENDAR
VERSION:2.0
PRODID:-//Pfarreiengemeinschaft Pfaffenhofen an der Ilm - ECPv6.15.20//NONSGML v1.0//EN
CALSCALE:GREGORIAN
METHOD:PUBLISH
X-WR-CALNAME:Pfarreiengemeinschaft Pfaffenhofen an der Ilm
X-ORIGINAL-URL:https://pfarrei-pfaffenhofen.de
X-WR-CALDESC:Veranstaltungen für Pfarreiengemeinschaft Pfaffenhofen an der Ilm
REFRESH-INTERVAL;VALUE=DURATION:PT1H
X-Robots-Tag:noindex
X-PUBLISHED-TTL:PT1H
BEGIN:VTIMEZONE
TZID:UTC
BEGIN:STANDARD
TZOFFSETFROM:+0000
TZOFFSETTO:+0000
TZNAME:UTC
DTSTART:20200101T000000
END:STANDARD
END:VTIMEZONE
BEGIN:VEVENT
DTSTART;TZID=UTC:20210328T103000
DTEND;TZID=UTC:20210328T103000
DTSTAMP:20260424T145332
CREATED:20210317T080016Z
LAST-MODIFIED:20210317T080016Z
UID:6792-1616927400-1616927400@pfarrei-pfaffenhofen.de
SUMMARY:Kinderkirche und Kleinkinderkirche am Palmsonntag mit Anmeldung
DESCRIPTION:Sonntag um 10.30 Uhr im Pfarrheim\nfür alle Kinder der Kinderkirche und Kleinkinderkirche mit Anmeldung. \nAnmeldung unter: jutta.roedler@gmx.de \n 
URL:https://pfarrei-pfaffenhofen.de/termin/kinderkirche-23-2-2-2-2-2-2-2-2-2-2-2-2-2-2-2-3-2/
LOCATION:Pfarrheim\, Scheyerer Str. 2\, Pfaffenhofen\, 85276\, Deutschland
CATEGORIES:Familie und Kinder,Gottesdienste
ATTACH;FMTTYPE=image/jpeg:https://pfarrei-pfaffenhofen.de/wp-content/uploads/2017/10/Kindergottesdienst.jpg
END:VEVENT
BEGIN:VEVENT
DTSTART;TZID=UTC:20210328T170000
DTEND;TZID=UTC:20210328T170000
DTSTAMP:20260424T145332
CREATED:20210303T081223Z
LAST-MODIFIED:20210303T081223Z
UID:6753-1616950800-1616950800@pfarrei-pfaffenhofen.de
SUMMARY:CANTATE DOMINO
DESCRIPTION:Ansprechende Musik – Texte – Stille – Gebet \nJeden Sonntag in der Fastenzeit\, 17 Uhr\, \nMusikalische Leitung: Alois Kammerl\, Kirchenmusiker \nDauer: circa 30 – 40 Minuten
URL:https://pfarrei-pfaffenhofen.de/termin/cantate-domino-3-2-2-2/
LOCATION:Stadtpfarrkirche\, Hauptplatz 44\, Pfaffenhofen\, 85276\, Deutschland
END:VEVENT
END:VCALENDAR