BEGIN:VCALENDAR
VERSION:2.0
PRODID:-//Pfarreiengemeinschaft Pfaffenhofen an der Ilm - ECPv6.15.20//NONSGML v1.0//EN
CALSCALE:GREGORIAN
METHOD:PUBLISH
X-WR-CALNAME:Pfarreiengemeinschaft Pfaffenhofen an der Ilm
X-ORIGINAL-URL:https://pfarrei-pfaffenhofen.de
X-WR-CALDESC:Veranstaltungen für Pfarreiengemeinschaft Pfaffenhofen an der Ilm
REFRESH-INTERVAL;VALUE=DURATION:PT1H
X-Robots-Tag:noindex
X-PUBLISHED-TTL:PT1H
BEGIN:VTIMEZONE
TZID:UTC
BEGIN:STANDARD
TZOFFSETFROM:+0000
TZOFFSETTO:+0000
TZNAME:UTC
DTSTART:20200101T000000
END:STANDARD
END:VTIMEZONE
BEGIN:VEVENT
DTSTART;TZID=UTC:20210329T190000
DTEND;TZID=UTC:20210329T190000
DTSTAMP:20260424T131903
CREATED:20210303T084707Z
LAST-MODIFIED:20210303T084707Z
UID:6769-1617044400-1617044400@pfarrei-pfaffenhofen.de
SUMMARY:Bußgottesdienst
DESCRIPTION:Bußgottesdienst in der Stadtpfarrkirche
URL:https://pfarrei-pfaffenhofen.de/termin/bussgottesdienst-2-2-2-2-2/
LOCATION:Stadtpfarrkirche\, Hauptplatz 44\, Pfaffenhofen\, 85276\, Deutschland
END:VEVENT
END:VCALENDAR