BEGIN:VCALENDAR
VERSION:2.0
PRODID:-//Pfarreiengemeinschaft Pfaffenhofen an der Ilm - ECPv6.15.18//NONSGML v1.0//EN
CALSCALE:GREGORIAN
METHOD:PUBLISH
X-ORIGINAL-URL:https://pfarrei-pfaffenhofen.de
X-WR-CALDESC:Veranstaltungen für Pfarreiengemeinschaft Pfaffenhofen an der Ilm
REFRESH-INTERVAL;VALUE=DURATION:PT1H
X-Robots-Tag:noindex
X-PUBLISHED-TTL:PT1H
BEGIN:VTIMEZONE
TZID:UTC
BEGIN:STANDARD
TZOFFSETFROM:+0000
TZOFFSETTO:+0000
TZNAME:UTC
DTSTART:20240101T000000
END:STANDARD
END:VTIMEZONE
BEGIN:VEVENT
DTSTART;TZID=UTC:20250201T100000
DTEND;TZID=UTC:20260221T170000
DTSTAMP:20260419T142350
CREATED:20240107T104048Z
LAST-MODIFIED:20260215T102206Z
UID:9271-1738404000-1771693200@pfarrei-pfaffenhofen.de
SUMMARY:10 Uhr - Herzkissenaktion des Frauenbunds
DESCRIPTION:Herzkissenaktion 2026 des KDFB am Samstag\, den 21.02.\, von 10:00 Uhr bis ca. 17:00 Uhr (+ gemeinsames Mittagessen)\, im Pfarrsaal. \nFür die Kissen brauchen wir reine Baumwolle. Wer Reste hat\, die in etwa auf 40 x 40 cm geschnitten werden können\, kann diese bis spätestens 20.02.\, frisch gewaschen und gebügelt\, bei\nUrsel Sibinger (Tel.: 08441 – 83547) abliefern. \nUm Anmeldung wird gebeten!
URL:https://pfarrei-pfaffenhofen.de/termin/10-uhr-herzkissenaktion/
LOCATION:Pfarrsaal\, Scheyerer Str. 2\, Pfaffenhofen\, 85276\, Deutschland
CATEGORIES:Familie und Kinder,Frauenbund,Gemeindeleben
ATTACH;FMTTYPE=image/gif:https://pfarrei-pfaffenhofen.de/wp-content/uploads/2017/09/Logo_KDFB.gif
END:VEVENT
BEGIN:VEVENT
DTSTART;TZID=UTC:20251112T200000
DTEND;TZID=UTC:20251112T210000
DTSTAMP:20260419T142350
CREATED:20180205T215528Z
LAST-MODIFIED:20251102T110311Z
UID:2527-1762977600-1762981200@pfarrei-pfaffenhofen.de
SUMMARY:20 Uhr - Glaube und Kirche im Gespräch (mit Pfarrer Miorin)
DESCRIPTION:Die Kolpings-Familie lädt ein\, am Mittwoch den 12.11.\, um 19:30 Uhr ins Kolpinghaus.  \n– GLAUBE UND KIRCHE IM GESPRÄCH – mit Präses Pfarrer Albert L. Miorin. \nHerzliche Einladung an ALLE! \n 
URL:https://pfarrei-pfaffenhofen.de/termin/glaubensgespraech-mit-pfarrer-miorin-3/
LOCATION:Kolpinghaus\, Auenstraße 50\, Pfaffenhofen\, 85276\, Deutschland
CATEGORIES:Bibel,Gemeindeleben,Kolping
END:VEVENT
END:VCALENDAR