BEGIN:VCALENDAR
VERSION:2.0
PRODID:-//Pfarreiengemeinschaft Pfaffenhofen an der Ilm - ECPv6.15.18//NONSGML v1.0//EN
CALSCALE:GREGORIAN
METHOD:PUBLISH
X-WR-CALNAME:Pfarreiengemeinschaft Pfaffenhofen an der Ilm
X-ORIGINAL-URL:https://pfarrei-pfaffenhofen.de
X-WR-CALDESC:Veranstaltungen für Pfarreiengemeinschaft Pfaffenhofen an der Ilm
REFRESH-INTERVAL;VALUE=DURATION:PT1H
X-Robots-Tag:noindex
X-PUBLISHED-TTL:PT1H
BEGIN:VTIMEZONE
TZID:UTC
BEGIN:STANDARD
TZOFFSETFROM:+0000
TZOFFSETTO:+0000
TZNAME:UTC
DTSTART:20250101T000000
END:STANDARD
END:VTIMEZONE
BEGIN:VEVENT
DTSTART;TZID=UTC:20260422T140000
DTEND;TZID=UTC:20260422T160000
DTSTAMP:20260422T015919
CREATED:20241110T084514Z
LAST-MODIFIED:20260322T165640Z
UID:9854-1776866400-1776873600@pfarrei-pfaffenhofen.de
SUMMARY:14 Uhr - Kaffee UHU mit Vortrag von Reinhard Haiplik
DESCRIPTION:Das Seniorenteam „Kaffee UHU“\, lädt ein:\nam Mittwoch\, den 25.03.\, um 14:00 Uhr zum Kreuzweggebet und\nam Mittwoch\, den 22.04.\, um 14:00 Uhr zum Vortrag mit Reinhard Haiplik.\nAnschl. gemütliches Beisammensein! Ort: Saal St. Johannes\, Scheyerer Str. 2.
URL:https://pfarrei-pfaffenhofen.de/termin/kaffee-uhu-seniorenkaffee-vortrag/
LOCATION:Pfarrsaal\, Scheyerer Str. 2\, Pfaffenhofen\, 85276\, Deutschland
CATEGORIES:Gemeindeleben,Senioren
ATTACH;FMTTYPE=image/png:https://pfarrei-pfaffenhofen.de/wp-content/uploads/UHU.png
END:VEVENT
BEGIN:VEVENT
DTSTART;TZID=UTC:20260422T193000
DTEND;TZID=UTC:20260422T203000
DTSTAMP:20260422T015919
CREATED:20190331T123843Z
LAST-MODIFIED:20260322T170037Z
UID:4667-1776886200-1776889800@pfarrei-pfaffenhofen.de
SUMMARY:19.30 Uhr - Offenes Bibelteilen
DESCRIPTION:Offenes Bibelteilen\, am Mittwoch\, \n\n25.03.2026\n08.04.2026\n22.04.2026\n\num 19:30 Uhr\, im Raum St. Benedikt.
URL:https://pfarrei-pfaffenhofen.de/termin/offenes-bibelteilen-29/
LOCATION:Pfarrheim\, Raum St. Benedikt\, Scheyerer Str. 2\, Pfaffenhofen\, 85276\, Deutschland
CATEGORIES:Bibel,Gemeindeleben
END:VEVENT
END:VCALENDAR