BEGIN:VCALENDAR
VERSION:2.0
PRODID:-//Pfarreiengemeinschaft Pfaffenhofen an der Ilm - ECPv6.15.18//NONSGML v1.0//EN
CALSCALE:GREGORIAN
METHOD:PUBLISH
X-WR-CALNAME:Pfarreiengemeinschaft Pfaffenhofen an der Ilm
X-ORIGINAL-URL:https://pfarrei-pfaffenhofen.de
X-WR-CALDESC:Veranstaltungen für Pfarreiengemeinschaft Pfaffenhofen an der Ilm
REFRESH-INTERVAL;VALUE=DURATION:PT1H
X-Robots-Tag:noindex
X-PUBLISHED-TTL:PT1H
BEGIN:VTIMEZONE
TZID:UTC
BEGIN:STANDARD
TZOFFSETFROM:+0000
TZOFFSETTO:+0000
TZNAME:UTC
DTSTART:20250101T000000
END:STANDARD
END:VTIMEZONE
BEGIN:VEVENT
DTSTART;TZID=UTC:20260423T170000
DTEND;TZID=UTC:20260423T183000
DTSTAMP:20260423T143807
CREATED:20260322T171108Z
LAST-MODIFIED:20260322T171135Z
UID:10872-1776963600-1776969000@pfarrei-pfaffenhofen.de
SUMMARY:17 Uhr - Minibeete erstellen
DESCRIPTION:MINIBEETE FÜR DEIN FENSTERBRETT\,\nam Donnerstag\, den 23.04\, von 17:00 bis 18:30 Uhr. Auch wenn Ihr keinen Garten habt\, könnt Ihr Euch mit frischem Grün selbst versorgen. \nZusammen mit dem Gartenbauverein Pfaffenhofen wollen wir Euch zeigen\, wie das geht. Jeder darf sich ein Minibeet für sein Fensterbrett gestalten und bepflanzen. Entweder für Kräuter\noder Saaten. Außerdem stellen wir Samenbomben her\, um Pfaffenhofen ein bisschen bunter zu machen. \nWir freuen uns auf Euch! Treffpunkt: Pfarrheim
URL:https://pfarrei-pfaffenhofen.de/termin/17-uhr-minibeete-erstellen/
CATEGORIES:Gemeindeleben,Jugend,Schüler
END:VEVENT
END:VCALENDAR