BEGIN:VCALENDAR
VERSION:2.0
PRODID:-//Pfarreiengemeinschaft Pfaffenhofen an der Ilm - ECPv6.15.18//NONSGML v1.0//EN
CALSCALE:GREGORIAN
METHOD:PUBLISH
X-ORIGINAL-URL:https://pfarrei-pfaffenhofen.de
X-WR-CALDESC:Veranstaltungen für Pfarreiengemeinschaft Pfaffenhofen an der Ilm
REFRESH-INTERVAL;VALUE=DURATION:PT1H
X-Robots-Tag:noindex
X-PUBLISHED-TTL:PT1H
BEGIN:VTIMEZONE
TZID:UTC
BEGIN:STANDARD
TZOFFSETFROM:+0000
TZOFFSETTO:+0000
TZNAME:UTC
DTSTART:20240101T000000
END:STANDARD
END:VTIMEZONE
BEGIN:VEVENT
DTSTART;TZID=UTC:20260417T190000
DTEND;TZID=UTC:20260417T200000
DTSTAMP:20260421T113050
CREATED:20260125T082556Z
LAST-MODIFIED:20260322T170916Z
UID:10754-1776452400-1776456000@pfarrei-pfaffenhofen.de
SUMMARY:19 Uhr - Singen im Kerzenschein
DESCRIPTION:Singen im Kerzenschein\, findet wieder am 17.04.2026\, um 19:00 Uhr in der Stadtpfarrkirche statt. \nDieses Mal werden Gospels mit der passenden musikalischen Begleitung gesungen. Herzliche Einladung an ALLE!
URL:https://pfarrei-pfaffenhofen.de/termin/19-uhr-singen-im-kerzenschein/
LOCATION:Stadtpfarrkirche\, Hauptplatz 44\, Pfaffenhofen\, 85276\, Deutschland
CATEGORIES:Musik
END:VEVENT
BEGIN:VEVENT
DTSTART;TZID=UTC:20260408T193000
DTEND;TZID=UTC:20260408T203000
DTSTAMP:20260421T113050
CREATED:20221207T142555Z
LAST-MODIFIED:20260322T165913Z
UID:4981-1775676600-1775680200@pfarrei-pfaffenhofen.de
SUMMARY:19.30 Uhr - Offenes Bibelteilen
DESCRIPTION:Offenes Bibelteilen\, am Mittwoch\, \n\n25.03.2026\n08.04.2026\n22.04.2026\n\num 19:30 Uhr\, im Raum St. Benedikt.
URL:https://pfarrei-pfaffenhofen.de/termin/offenes-bibelteilen-29-2/
LOCATION:Pfarrheim\, Raum St. Benedikt\, Scheyerer Str. 2\, Pfaffenhofen\, 85276\, Deutschland
CATEGORIES:Bibel,Gemeindeleben
END:VEVENT
BEGIN:VEVENT
DTSTART;TZID=UTC:20260330T183000
DTEND;TZID=UTC:20260330T190000
DTSTAMP:20260421T113050
CREATED:20231105T102539Z
LAST-MODIFIED:20260326T190039Z
UID:9105-1774895400-1774897200@pfarrei-pfaffenhofen.de
SUMMARY:18.30 Uhr - Ökumenisches Friedensgebet
DESCRIPTION:Ökum. Friedensgebet\nfür die Menschen in den Krisengebieten der Welt\, am Montag\, den 30.03.\, um 18:30 Uhr\, in der Stadtpfarrkirche.
URL:https://pfarrei-pfaffenhofen.de/termin/oekumenisches-friedensgebet-2-3/
LOCATION:Stadtpfarrkirche\, Hauptplatz 44\, Pfaffenhofen\, 85276\, Deutschland
CATEGORIES:Gemeindeleben
ATTACH;FMTTYPE=image/png:https://pfarrei-pfaffenhofen.de/wp-content/uploads/Friedensgebet-1.png
END:VEVENT
BEGIN:VEVENT
DTSTART;TZID=UTC:20260328T130000
DTEND;TZID=UTC:20260328T150000
DTSTAMP:20260421T113050
CREATED:20260322T170737Z
LAST-MODIFIED:20260322T170737Z
UID:10868-1774702800-1774710000@pfarrei-pfaffenhofen.de
SUMMARY:13 Uhr - Kirchenputz in Uttenhofen
DESCRIPTION:KIRCHENPUTZ IN UTTENHOFEN\nam Samstag\, den 28.03.\, ab 13:00 Uhr. Bitte um zahlreiche Beteiligung vieler Helfer/innen. Vielen Dank im Voraus!
URL:https://pfarrei-pfaffenhofen.de/termin/13-uhr-kirchenputz-in-uttenhofen/
LOCATION:Uttenhofen\, Schmädelstraße\, Pfaffenhofen\, 85276\, Deutschland
CATEGORIES:Gemeindeleben
END:VEVENT
BEGIN:VEVENT
DTSTART;TZID=UTC:20260326T190000
DTEND;TZID=UTC:20260326T210000
DTSTAMP:20260421T113050
CREATED:20230305T170826Z
LAST-MODIFIED:20260322T165255Z
UID:8591-1774551600-1774558800@pfarrei-pfaffenhofen.de
SUMMARY:19 Uhr - Osterkerzen gestalten
DESCRIPTION:eine eigene Osterkerze zu gestalten und sich an der Technik der Wachsgestaltung selbst zu versuchen. \nUnter fachkundiger Begleitung entstehen individuelle Kerzen. Mitzubringen sind neben der Freude an einer fröhlichen Bastel-Gemeinschaft ein Brettchen\, ein kleines Küchenmesser (oder Cutter)\, ein Handtuch und evtl. ein eigener Kerzenrohling. Kerzen und Gestaltungsmaterial gibt es auch vor Ort.\nDonnerstag\, den 26.03. um 19:00 Uhr im Kolpinghaus\, Auenstraße 50.
URL:https://pfarrei-pfaffenhofen.de/termin/19-uhr-osterkerzen-gestalten/
LOCATION:Kolpinghaus\, Auenstraße 50\, Pfaffenhofen\, 85276\, Deutschland
CATEGORIES:Gemeindeleben,Kolping
END:VEVENT
BEGIN:VEVENT
DTSTART;TZID=UTC:20260326T170000
DTEND;TZID=UTC:20260326T183000
DTSTAMP:20260421T113050
CREATED:20260322T170541Z
LAST-MODIFIED:20260322T170541Z
UID:10866-1774544400-1774549800@pfarrei-pfaffenhofen.de
SUMMARY:17 Uhr - Natur pur für eure Haut
DESCRIPTION:NATUR PUR FÜR EURE HAUT\,\nam Donnerstag\, den 26.03.\, von 17:00 bis 18:30 Uhr. \nIn den meisten Bodylotions und Deos sind künstliche Duftstoffe und Zutaten\, die man noch nie gehört hat. An diesem Nachmittag schauen wir mal\, was alles in „normalen“ Pflegeprodukten aus der Drogerie enthalten ist. Gemeinsam wollen wir dann ein Deo\, ein Körperöl und ein „Schlaf-gut“-Spray herstellen\, mit 100% natürlichen Zutaten. \nWir freuen uns auf Euch! Treffpunkt: Pfarrheim
URL:https://pfarrei-pfaffenhofen.de/termin/17-uhr-natur-pur-fuer-eure-haut/
LOCATION:Pfarrsaal\, Scheyerer Str. 2\, Pfaffenhofen\, 85276\, Deutschland
CATEGORIES:Gemeindeleben,Jugend,Schüler
ATTACH;FMTTYPE=image/jpeg:https://pfarrei-pfaffenhofen.de/wp-content/uploads/SchoepfungsJugend-3.jpg
END:VEVENT
BEGIN:VEVENT
DTSTART;TZID=UTC:20260325T193000
DTEND;TZID=UTC:20260325T203000
DTSTAMP:20260421T113050
CREATED:20231105T100520Z
LAST-MODIFIED:20260322T165806Z
UID:9094-1774467000-1774470600@pfarrei-pfaffenhofen.de
SUMMARY:19.30 Uhr - Offenes Bibelteilen
DESCRIPTION:Offenes Bibelteilen\, am Mittwoch\, \n\n25.03.2026\n08.04.2026\n22.04.2026\n\num 19:30 Uhr\, im Raum St. Benedikt.
URL:https://pfarrei-pfaffenhofen.de/termin/offenes-bibelteilen-29-3/
LOCATION:Pfarrheim\, Raum St. Benedikt\, Scheyerer Str. 2\, Pfaffenhofen\, 85276\, Deutschland
CATEGORIES:Bibel,Gemeindeleben
END:VEVENT
BEGIN:VEVENT
DTSTART;TZID=UTC:20260325T140000
DTEND;TZID=UTC:20260325T160000
DTSTAMP:20260421T113050
CREATED:20250616T101426Z
LAST-MODIFIED:20260322T165516Z
UID:10454-1774447200-1774454400@pfarrei-pfaffenhofen.de
SUMMARY:14 Uhr - Kaffee UHU - Kreuzweggebet
DESCRIPTION:Das Seniorenteam „Kaffee UHU“\, lädt ein:\nam Mittwoch\, den 25.03.\, um 14:00 Uhr zum Kreuzweggebet und\nam Mittwoch\, den 22.04.\, um 14:00 Uhr zum Vortrag mit Reinhard Haiplik.\nAnschl. gemütliches Beisammensein! Ort: Saal St. Johannes\, Scheyerer Str. 2.
URL:https://pfarrei-pfaffenhofen.de/termin/kaffee-uhu-seniorenkaffee-2/
LOCATION:Pfarrsaal\, Scheyerer Str. 2\, Pfaffenhofen\, 85276\, Deutschland
CATEGORIES:Gemeindeleben,Senioren
ATTACH;FMTTYPE=image/png:https://pfarrei-pfaffenhofen.de/wp-content/uploads/UHU.png
END:VEVENT
BEGIN:VEVENT
DTSTART;TZID=UTC:20260324T190000
DTEND;TZID=UTC:20260324T200000
DTSTAMP:20260421T113050
CREATED:20260322T165027Z
LAST-MODIFIED:20260322T165027Z
UID:10855-1774378800-1774382400@pfarrei-pfaffenhofen.de
SUMMARY:19 Uhr - Andacht der Kolpingsfamilie
DESCRIPTION:zum Innehalten auf dem Weg nach Ostern hin: am Dienstag\, den 24.03. um 19:00 Uhr in der Stadtpfarrkirche machen wir einen „Boxenstopp“ mit einer Andacht zur Fastenzeit.
URL:https://pfarrei-pfaffenhofen.de/termin/19-uhr-andacht-der-kolpingsfamilie/
LOCATION:Stadtpfarrkirche\, Hauptplatz 44\, Pfaffenhofen\, 85276\, Deutschland
CATEGORIES:Gemeindeleben,Kolping
END:VEVENT
BEGIN:VEVENT
DTSTART;TZID=UTC:20260322T113000
DTEND;TZID=UTC:20260322T130000
DTSTAMP:20260421T113050
CREATED:20180308T212809Z
LAST-MODIFIED:20260215T110332Z
UID:2799-1774179000-1774184400@pfarrei-pfaffenhofen.de
SUMMARY:11.30 Uhr - Fastenessen 2026
DESCRIPTION:Fastenessen 2026\nAm Sonntag\, den 22.03.\, nach dem Gottesdienst ab 11:30 Uhr. \nDer Arbeitskreis „Eine Welt und interkultureller Dialog“ lädt alle recht herzlich ein. Auch unsere Firmlinge unterstützen uns dieses Jahr beim Fastenessen. Bei gemütlicher\, familiärer Atmosphäre stellen wir Ihnen zwei verschiedene schmackhafte Suppen auf den Tisch. \nFür Kaffee und selbstgebackenen Hefe- und Nusszopf ist ebenfalls bestens gesorgt. \nBitte entscheiden Sie selbst\, was Sie dafür in den Spendentopf geben möchten\, wir bitten aber um großzügige Spenden. Der Erlös geht an ein Misereor-Projekt. \nEs wäre sehr schön\, wenn Sie selber Teller und Löffel zum Essen mitbringen würden. \nEbenso bietet der „Eine –Welt-Laden“ fair gehandelte Waren zum Verkauf an. Es gibt auch bereits die ersten handverzierten Osterkerzen. \nWir freuen uns auf Ihr Kommen
URL:https://pfarrei-pfaffenhofen.de/termin/fastenessen/
LOCATION:Stadtpfarrkirche\, anschl. Pfarrheim\, Scheyerer Straße 2\, Pfaffenhofen\, 85276\, Deutschland
CATEGORIES:Gemeindeleben
END:VEVENT
BEGIN:VEVENT
DTSTART;TZID=UTC:20260321T090000
DTEND;TZID=UTC:20260321T160000
DTSTAMP:20260421T113050
CREATED:20230301T081933Z
LAST-MODIFIED:20260125T083348Z
UID:8537-1774083600-1774108800@pfarrei-pfaffenhofen.de
SUMMARY:9 Uhr - Brautleutetag 2026
DESCRIPTION:BRAUTLEUTETAG 2026\nam Samstag\, den 21.03. 2026\, von 09:00 bis 16:00 Uhr im Pfarrheim\, Scheyerer Str. 2\, Pfaffenhofen. \nAnmeldung im Pfarrbüro: Scheyerer Str. 4 oder Tel.: 08441/80090
URL:https://pfarrei-pfaffenhofen.de/termin/9-uhr-brautleutetag/
LOCATION:Pfarrsaal\, Scheyerer Str. 2\, Pfaffenhofen\, 85276\, Deutschland
CATEGORIES:Gemeindeleben
END:VEVENT
BEGIN:VEVENT
DTSTART;TZID=UTC:20260318T140000
DTEND;TZID=UTC:20260318T170000
DTSTAMP:20260421T113050
CREATED:20230305T150417Z
LAST-MODIFIED:20260215T110020Z
UID:8575-1773842400-1773853200@pfarrei-pfaffenhofen.de
SUMMARY:14 Uhr - Palmbuschen binden in Affalterbach
DESCRIPTION:Palmbuschenbinden in Affalterbach\nAm Mittwoch\, den 18.03.2025\, ab 14 Uhr\, werden im Pfarrhof Affalterbach die Palmbuschen gebunden.\nHierzu ist jede helfende Hand herzlich willkommen
URL:https://pfarrei-pfaffenhofen.de/termin/14-uhr-palmbuschen-binden-in-affalterbach/
LOCATION:Pfarrhof Affalterbach\, Kirchengasse 1\, Pfaffenhofen an der Ilm\, Bayern\, 85276\, Deutschland
CATEGORIES:Familie und Kinder,Gemeindeleben
END:VEVENT
BEGIN:VEVENT
DTSTART;TZID=UTC:20260316T193000
DTEND;TZID=UTC:20260316T203000
DTSTAMP:20260421T113050
CREATED:20260215T105756Z
LAST-MODIFIED:20260215T105756Z
UID:10811-1773689400-1773693000@pfarrei-pfaffenhofen.de
SUMMARY:19.30 Uhr - Ökumenischer Gottesdienst gegen Rassismus
DESCRIPTION:Ökumenischer Gottesdienst zum Start der internationalen Wochen gegen Rassismus\nDie ökumenische Vorbereitungsgruppe möchte ein Zeichen setzen\, dass der christliche Glaube jede Form von Rassismus ausschließt. \nVielmehr ist es Aufgabe der Kirchen und aller Christen\, eigenen und fremden Vorurteilen immer wieder entgegenzutreten. Seien Sie dabei und setzen Sie ein Zeichen für Menschlichkeit und Verständigung. \nDatum: Montag\, 16.03.2026 \nUhrzeit: 19:30 Uhr \nOrt: Stadtpfarrkirche St. Joh. Baptist\, Hauptplatz 44
URL:https://pfarrei-pfaffenhofen.de/termin/19-30-uhr-oekumenischer-gottesdienst-gegen-rassismus/
LOCATION:Stadtpfarrkirche\, Hauptplatz 44\, Pfaffenhofen\, 85276\, Deutschland
CATEGORIES:Gemeindeleben,Gottesdienste
END:VEVENT
BEGIN:VEVENT
DTSTART;TZID=UTC:20260314T090000
DTEND;TZID=UTC:20260314T110000
DTSTAMP:20260421T113050
CREATED:20250219T123206Z
LAST-MODIFIED:20260215T105350Z
UID:10163-1773478800-1773486000@pfarrei-pfaffenhofen.de
SUMMARY:9 Uhr - RAMADAMA
DESCRIPTION:RAMADAMA AKTION DER STADTWERKE\nam Samstag\, den 14.03.\, von 09:00 Uhr bis 10:30 Uhr\, wollen wir uns auch an der großen Ramadama-Aktion der Stadtwerke beteiligen. \nWie letztes Jahr werden wir Müll\, der um die Kirche und am Kirchplatz sowie am Friedhof liegt\, suchen und einsammeln. \nBitte zieht Euch warm an und bringt Gartenhandschuhe mit. \nWir freuen uns auf Euch! Treffpunkt: Pfarrheim
URL:https://pfarrei-pfaffenhofen.de/termin/10163/
LOCATION:Zwischen Stadtpfarrkirche und Pfarrheim\, Scheyerer Str. 4\, Pfaffenhofen\, 85276\, Deutschland
CATEGORIES:Familie und Kinder,Gemeindeleben
ATTACH;FMTTYPE=image/jpeg:https://pfarrei-pfaffenhofen.de/wp-content/uploads/SchoepfungsJugend-3.jpg
END:VEVENT
BEGIN:VEVENT
DTSTART;TZID=UTC:20260311T193000
DTEND;TZID=UTC:20260311T210000
DTSTAMP:20260421T113050
CREATED:20260215T105024Z
LAST-MODIFIED:20260215T105024Z
UID:10807-1773257400-1773262800@pfarrei-pfaffenhofen.de
SUMMARY:19.30 Uhr - Offene Chorprobe
DESCRIPTION:Haben Sie Lust zum Singen?\nDann sind Sie herzlich eingeladen zur offenen Chorprobe des Kirchenchores St. Johannes Baptist\, am Mittwoch\, den 11.03.2026\, um 19:30 Uhr\, im Pfarrsaal\, Scheyerer Str. 2. \nUnter der Leitung von Kirchenmusikerin Lauren Avila Molina singen wir gemeinsam\, ganz ohne Verpflichtung. \nSingen tut gut. Singen verbindet. \nKommen Sie vorbei und probieren Sie es aus!
URL:https://pfarrei-pfaffenhofen.de/termin/19-30-uhr-offene-chorprobe/
LOCATION:Pfarrsaal\, Scheyerer Str. 2\, Pfaffenhofen\, 85276\, Deutschland
CATEGORIES:Gemeindeleben,Musik
END:VEVENT
BEGIN:VEVENT
DTSTART;TZID=UTC:20260307T193000
DTEND;TZID=UTC:20260307T220000
DTSTAMP:20260421T113050
CREATED:20180131T092416Z
LAST-MODIFIED:20260125T083124Z
UID:2496-1772911800-1772920800@pfarrei-pfaffenhofen.de
SUMMARY:19.30 Uhr - Starkbierfest der Kath. Jugend
DESCRIPTION:Starkbierfest der Kath. Jugend\,\nam Samstag\, den 07.03.\, ab 19:30 Uhr im Pfarrsaal\, Scheyerer Str. 2. \nHerzliche Einladung an ALLE!
URL:https://pfarrei-pfaffenhofen.de/termin/starkbierfest-der-kath-jugend/
LOCATION:Pfarrsaal\, Scheyerer Str. 2\, Pfaffenhofen\, 85276\, Deutschland
CATEGORIES:Gemeindeleben,Jugend
END:VEVENT
BEGIN:VEVENT
DTSTART;TZID=UTC:20260306T183000
DTEND;TZID=UTC:20260306T200000
DTSTAMP:20260421T113050
CREATED:20220301T145249Z
LAST-MODIFIED:20260215T104357Z
UID:7517-1772821800-1772827200@pfarrei-pfaffenhofen.de
SUMMARY:18.30 Uhr - Weltgebetstag der Frauen
DESCRIPTION:Weltgebetstag der Frauen\nHerzliche Einladung zum Weltgebetstag der Frauen\, am Freitag\, 06.03.2026\, um 18:30 Uhr im Pfarrsaal. \nWir beginnen um 18:30 Uhr mit Informationen über das diesjährige Beispielland Nigeria und feiern im Anschluss einen Gottesdienst\, den Frauen aus den christlichen Kirchen Pfaffenhofen gemeinsam vorbereitet haben. \nDie musikalische Leitung übernimmt in diesem Jahr unsere Kirchenmusikerin Lauren Avila Molina. \nBeim gemütlichen Beisammensein lassen wir den Abend ausklingen.
URL:https://pfarrei-pfaffenhofen.de/termin/weltgebetstag-der-frauen-2/
LOCATION:Pfarrsaal\, Scheyerer Str. 2\, Pfaffenhofen\, 85276\, Deutschland
CATEGORIES:Familie und Kinder,Frauenbund,Gemeindeleben,Gottesdienste
END:VEVENT
BEGIN:VEVENT
DTSTART;TZID=UTC:20260228T160000
DTEND;TZID=UTC:20260301T200000
DTSTAMP:20260421T113050
CREATED:20220310T065446Z
LAST-MODIFIED:20260222T095050Z
UID:7556-1772294400-1772395200@pfarrei-pfaffenhofen.de
SUMMARY:Pfarrgemeinderatswahl 2026
DESCRIPTION:Pfarrgemeinderatswahl 2026\nÖffnungszeiten Wahllokal/Pfarrsaal: \n\nSamstag\, 28.02. von 16:00 bis 18:30 Uhr\nSonntag\, 01.03. von 07:30 bis 13:00 Uhr und von 17:00 bis 20:00 Uhr\n\nBriefwahlunterlagen liegen ab Dienstag\, 17.02. im Pfarrbüro bereit.
URL:https://pfarrei-pfaffenhofen.de/termin/pfarrgemeinderatswahl-2026/
LOCATION:Pfarrsaal\, Scheyerer Str. 2\, Pfaffenhofen\, 85276\, Deutschland
CATEGORIES:Gemeindeleben
END:VEVENT
BEGIN:VEVENT
DTSTART;TZID=UTC:20260226T183000
DTEND;TZID=UTC:20260226T210000
DTSTAMP:20260421T113050
CREATED:20241002T095116Z
LAST-MODIFIED:20260215T103439Z
UID:9788-1772130600-1772139600@pfarrei-pfaffenhofen.de
SUMMARY:18.30 Uhr - Vortrag "Transplantationsmedizin"
DESCRIPTION:Ein Blick hinter die Kulissen der Transplantationsmedizin\nZu einem Vortrag mit Dr. Max Rist lädt die Katholische Erwachsenenbildung in Zusammenarbeit mit dem Seniorenbüro am Donnerstag\, den 26.02.2026\, um 18:30 Uhr in den\nHofbergsaal (Bürgerzentrum\, Hofberg 7) ein.\nWie funktioniert Organtransplantation wirklich? Was bedeutet der Hirntod medizinisch und rechtlich? Und warum warten in Deutschland weiterhin tausende Menschen auf ein lebensrettendes Spenderorgan? In verständlicher Form werden die medizinischen Abläufe einer Organspende\, die gesetzlichen Rahmenbedingungen in Deutschland sowie die Rolle der Angehörigen im Entscheidungsprozess vermittelt. \nZudem werden häufige Missverständnisse rund um Hirntod und Organspende sachlich eingeordnet und die deutsche Praxis mit Regelungen in anderen Ländern verglichen. All diesen Fragestellungen widmet sich der Referent Dr. Max Rist\, der viele Jahre als Chefarzt für Anästhesie und operative Intensivmedizin und auch als Transplantationsbeauftragter am Klinikum Dachau tätig war.
URL:https://pfarrei-pfaffenhofen.de/termin/vortragsabend/
LOCATION:Hofbergcafe\, Hofberg 7\, Pfaffenhofen\, Bayern\, 85276\, Deutschland
CATEGORIES:Gemeindeleben,Vorträge
END:VEVENT
BEGIN:VEVENT
DTSTART;TZID=UTC:20260226T170000
DTEND;TZID=UTC:20260226T183000
DTSTAMP:20260421T113050
CREATED:20240522T175255Z
LAST-MODIFIED:20260215T103144Z
UID:9565-1772125200-1772130600@pfarrei-pfaffenhofen.de
SUMMARY:17 Uhr - Teemischung kreieren & Insektenhotel bauen
DESCRIPTION:KREIERE DEINE TEEMISCHUNG & INSEKTENHOTEL – FRÜHJAHRSPUTZ\nam Donnerstag\, den 26.02.\, von 17:00 bis 18:30 Uhr. \nAn diesem Nachmittag wollen wir Euch zeigen\, wie man sich selbst eine leckere Teemischung zusammenstellen kann. Patricia bringt viele verschiedene\, getrocknete Kräuter aus ihrer\nKräuterwerkstatt mit und erklärt Euch\, welche Kräuter zum Beispiel für einen Entspannungstee oder einen „Gute Laune“-Tee geeignet sind. Jeder darf sich seine eigene Teemischung herstellen und mit nach Hause nehmen. Natürlich trinken wir auch gleich ein Tässchen Tee. \nAußerdem wollen wir uns um unser Insektenhotel im Pfarrgarten kümmern. \nBitte bringt ein sauberes Marmeladenglas für Eure Teemischung mit. \nWir freuen uns auf Euch! Treffpunkt: Pfarrheim
URL:https://pfarrei-pfaffenhofen.de/termin/17-uhr-insektenhotel-bauen/
LOCATION:Pfarrsaal\, Scheyerer Str. 2\, Pfaffenhofen\, 85276\, Deutschland
CATEGORIES:Jugend
ATTACH;FMTTYPE=image/jpeg:https://pfarrei-pfaffenhofen.de/wp-content/uploads/SchoepfungsJugend-3.jpg
END:VEVENT
BEGIN:VEVENT
DTSTART;TZID=UTC:20260218T140000
DTEND;TZID=UTC:20260218T160000
DTSTAMP:20260421T113050
CREATED:20220323T091014Z
LAST-MODIFIED:20260215T102009Z
UID:7588-1771423200-1771430400@pfarrei-pfaffenhofen.de
SUMMARY:14 Uhr - Kaffee UHU mit Aschermittwochsgottesdienst
DESCRIPTION:Das Seniorenteam „Kaffee UHU“\, lädt am Mittwoch\, den 18.02.\, um 14:00 Uhr zum Aschermittwochsgottesdienst ein. \nAnschl. Treffen im Pfarrheim\, Saal St. Johannes.
URL:https://pfarrei-pfaffenhofen.de/termin/kaffee-uhu-seniorenkaffee/
LOCATION:Stadtpfarrkirche\, anschl. Pfarrheim\, Scheyerer Straße 2\, Pfaffenhofen\, 85276\, Deutschland
CATEGORIES:Gemeindeleben,Gottesdienste,Senioren
ATTACH;FMTTYPE=image/png:https://pfarrei-pfaffenhofen.de/wp-content/uploads/UHU.png
END:VEVENT
BEGIN:VEVENT
DTSTART;TZID=UTC:20260217T140000
DTEND;TZID=UTC:20260217T210000
DTSTAMP:20260421T113050
CREATED:20190228T195853Z
LAST-MODIFIED:20260125T081605Z
UID:4567-1771336800-1771362000@pfarrei-pfaffenhofen.de
SUMMARY:14 Uhr - Faschingsendspurt im Kolpinghaus
DESCRIPTION:Faschingsendspurt im Kolpinghaus\nDie Kolpingsfamilie\, lädt am Faschingsdienstag\, 17.Februar ins Kolpinghaus (Auenstr. 50) ein: \n\nAb 14:00 Uhr Faschingskranzl – mit Kaffee\, Krapfen u. Kuchen\nAb 16:00 Uhr Faschingssause für ALLE – mit Barbetrieb bis 21 Uhr
URL:https://pfarrei-pfaffenhofen.de/termin/faschingskaffee-der-kolpingfamilie/
LOCATION:Kolpinghaus\, Auenstraße 50\, Pfaffenhofen\, 85276\, Deutschland
CATEGORIES:Gemeindeleben,Kolping
END:VEVENT
BEGIN:VEVENT
DTSTART;TZID=UTC:20260207T140000
DTEND;TZID=UTC:20260207T160000
DTSTAMP:20260421T113050
CREATED:20180126T201230Z
LAST-MODIFIED:20260125T082900Z
UID:2453-1770472800-1770480000@pfarrei-pfaffenhofen.de
SUMMARY:14 Uhr - Kinderfasching der KJ
DESCRIPTION:Am Samstag\, den 7.2. im Pfarrsaal findet von 14-16 Uhr wieder der Kinderfasching der KJ statt. \nEingeladen sind alle Kinder zwischen 5 und 10 Jahren.
URL:https://pfarrei-pfaffenhofen.de/termin/kinderfasching/
LOCATION:Pfarrsaal\, Scheyerer Str. 2\, Pfaffenhofen\, 85276\, Deutschland
CATEGORIES:Familie und Kinder,Jugend
END:VEVENT
BEGIN:VEVENT
DTSTART;TZID=UTC:20260201T170000
DTEND;TZID=UTC:20260201T180000
DTSTAMP:20260421T113050
CREATED:20260125T082332Z
LAST-MODIFIED:20260125T082332Z
UID:10752-1769965200-1769968800@pfarrei-pfaffenhofen.de
SUMMARY:17 Uhr - Lichtmess mit Blasius-Segen
DESCRIPTION:Lichtmess-Gottesdienst mit Blasius-Segen u. Kerzensegnung\nErstkommunionkinder bitte Taufkerzen mitbringen. Es singt das erste Mal unser neuer Kinderchor.
URL:https://pfarrei-pfaffenhofen.de/termin/lichtmess/
LOCATION:Stadtpfarrkirche\, Hauptplatz 44\, Pfaffenhofen\, 85276\, Deutschland
CATEGORIES:Familie und Kinder,Gottesdienste,Musik
END:VEVENT
BEGIN:VEVENT
DTSTART;TZID=UTC:20260128T090000
DTEND;TZID=UTC:20260128T110000
DTSTAMP:20260421T113050
CREATED:20190124T092454Z
LAST-MODIFIED:20260125T081341Z
UID:4348-1769590800-1769598000@pfarrei-pfaffenhofen.de
SUMMARY:9 Uhr - Frauenfrühstück des KDFB
DESCRIPTION:Frauenfrühstück des Kath. Frauenbundes zum Jahresbeginn\, am Mittwoch\, den 28.01.\, um 09:00 Uhr im Pfarrsaal.
URL:https://pfarrei-pfaffenhofen.de/termin/frauenfruehstueck/
LOCATION:Pfarrsaal\, Scheyerer Str. 2\, Pfaffenhofen\, 85276\, Deutschland
CATEGORIES:Frauenbund,Gemeindeleben
ATTACH;FMTTYPE=image/gif:https://pfarrei-pfaffenhofen.de/wp-content/uploads/2017/09/Logo_KDFB.gif
END:VEVENT
BEGIN:VEVENT
DTSTART;TZID=UTC:20260122T080000
DTEND;TZID=UTC:20260122T170000
DTSTAMP:20260421T113050
CREATED:20260125T080834Z
LAST-MODIFIED:20260125T080834Z
UID:10745-1769068800-1769101200@pfarrei-pfaffenhofen.de
SUMMARY:17 Uhr - Windspiel töpfern
DESCRIPTION:EIN WINDSPIEL AUS TON UND NATURMATERIALIEN\,\ngestalten wir am Donnerstag\, den 22.01.\, von 17:00 bis 18:30 Uhr. \nHabt ihr schon mal getöpfert? Frau Ponetsmüller zeigt uns\, wie einfach man Ton bearbeiten kann. Wir wollen Anhänger für ein Windspiel formen und mit Blättern aus der Natur prägen. Außerdem verschönern wir das Windspiel mit verschiedenen Dingen\, die Ihr beim Spazierengehen findet – also bringt bitte mit\, was Euch gefällt und was man zum Windspiel dazu hängen kann. \nWir freuen uns auf Euch!\nTreffpunkt: Pfarrheim
URL:https://pfarrei-pfaffenhofen.de/termin/17-uhr-windspiel-toepfern/
LOCATION:Pfarrsaal\, Scheyerer Str. 2\, Pfaffenhofen\, 85276\, Deutschland
CATEGORIES:Familie und Kinder,Jugend
ATTACH;FMTTYPE=image/jpeg:https://pfarrei-pfaffenhofen.de/wp-content/uploads/SchoepfungsJugend-3.jpg
END:VEVENT
BEGIN:VEVENT
DTSTART;TZID=UTC:20260111T150000
DTEND;TZID=UTC:20260111T160000
DTSTAMP:20260421T113050
CREATED:20191130T185218Z
LAST-MODIFIED:20251208T192021Z
UID:5598-1768143600-1768147200@pfarrei-pfaffenhofen.de
SUMMARY:15 Uhr - Segnungsgottesdienst für alle Neugetauften
DESCRIPTION:Neugetauftenfest: Zum Fest der Taufe Jesu laden wir am 11.01.\, um 15:00 Uhr\, in die Stadtpfarrkirche zum Segnungs-Wortgottesdienst für alle Neugetauften des vergangenen Jahres. \nDie Familien werden separat angeschrieben. Im Anschluss lädt der Arbeitskreis Ehe u. Familie zum Gemütlichen Beisammensein ins Pfarrheim ein.
URL:https://pfarrei-pfaffenhofen.de/termin/neugetauftenfest/
LOCATION:Stadtpfarrkirche\, anschl. Pfarrheim\, Scheyerer Straße 2\, Pfaffenhofen\, 85276\, Deutschland
CATEGORIES:Familie und Kinder,Gottesdienste
END:VEVENT
BEGIN:VEVENT
DTSTART;TZID=UTC:20260106T150000
DTEND;TZID=UTC:20260106T160000
DTSTAMP:20260421T113050
CREATED:20191130T193952Z
LAST-MODIFIED:20251208T191847Z
UID:5615-1767711600-1767715200@pfarrei-pfaffenhofen.de
SUMMARY:15 Uhr - Benefizkonzert der „Adventsbläser“
DESCRIPTION:Adventsbläser – Benefizkonzert unter der Leitung von Martin Ott\, am Dienstag\, den 06.01.2026\, um 15:00 Uhr in der Stadtpfarrkirche. \nDer Eintritt ist frei. Es wird jedoch wieder um Spenden für noch immer laufende soziale Projekte bei den Mutter-Teresa-Schwester in Kiew und Russland gebeten. \nHerzliche Einladung! \n 
URL:https://pfarrei-pfaffenhofen.de/termin/weihnachtliches-benefizkonzert-2-2/
LOCATION:Stadtpfarrkirche\, Hauptplatz 44\, Pfaffenhofen\, 85276\, Deutschland
CATEGORIES:Musik
END:VEVENT
BEGIN:VEVENT
DTSTART;TZID=UTC:20251227T183000
DTEND;TZID=UTC:20251227T193000
DTSTAMP:20260421T113050
CREATED:20251208T191712Z
LAST-MODIFIED:20251208T191712Z
UID:10698-1766860200-1766863800@pfarrei-pfaffenhofen.de
SUMMARY:18.30 Uhr - Kirchenkonzert
DESCRIPTION:„O MAGNUM MYSTERIUM“; Kirchenkonzert am 27.12.\, um 18:30 Uhr in der Stadtpfarrkirche. \nMit dem „Ensemble Classico“ und unserem Kirchenchor erwartet Sie ein Abend voller Stille\, Staunen und festlicher Freude. Auch hierzu herzliche Einladung!
URL:https://pfarrei-pfaffenhofen.de/termin/18-30-uhr-kirchenkonzert/
LOCATION:Stadtpfarrkirche\, Hauptplatz 44\, Pfaffenhofen\, 85276\, Deutschland
CATEGORIES:Gemeindeleben,Musik
END:VEVENT
BEGIN:VEVENT
DTSTART;TZID=UTC:20251220T183000
DTEND;TZID=UTC:20251220T193000
DTSTAMP:20260421T113050
CREATED:20251208T191433Z
LAST-MODIFIED:20251208T191433Z
UID:10695-1766255400-1766259000@pfarrei-pfaffenhofen.de
SUMMARY:18.30 Uhr - Festliches Konzert
DESCRIPTION:FESTLICHES KONZERT mit zwei Chören und einer Harfe\, am 20.12.\, um 18:30 Uhr in der Stadtpfarrkirche. \nEin Abend voller festlicher Klänge und berührender Harfenmusik. Herzliche Einladung!
URL:https://pfarrei-pfaffenhofen.de/termin/18-30-uhr-festliches-konzert/
LOCATION:Stadtpfarrkirche\, Hauptplatz 44\, Pfaffenhofen\, 85276\, Deutschland
CATEGORIES:Gemeindeleben,Musik
END:VEVENT
END:VCALENDAR